BEGIN:VCALENDAR
PRODID:NingEventWidget-v1
VERSION:2.0
METHOD:PUBLISH
BEGIN:VTIMEZONE
TZID:Asia/Kolkata
X-LIC-LOCATION:Asia/Kolkata
BEGIN:STANDARD
TZOFFSETFROM:+0530
TZOFFSETTO:+0530
TZNAME:IST
DTSTART:19700101T000000
END:STANDARD
END:VTIMEZONE
BEGIN:VEVENT
UID:6606644:Event:161430
DTSTAMP:20260423T161414Z
SUMMARY:Gender equality and social inclusion mainstreaming in WASH
DESCRIPTION:This webinar will be an opportunity to hear from a CEDIL p
 roject team, and hear about their research. To see their project page,
  please follow this link: Gender and Social Outcomes of WASH Interven
 tions\r\nPoor access to water, sanitation, and hygiene (WASH) services
  threatens population health and contributes to gender and social ineq
 ualities, especially in low-resource settings. Despite awareness in th
 e WASH sector of the importance of promoting gender equality and socia
 l inclusion (GESI) to address these inequalities, evaluations of inter
 ventions focus largely on health outcomes, while gender equality and o
 ther social outcomes are rarely included. GESI mainstreaming in WASH s
 ervices is often viewed as having the dual purpose of improving the su
 stainability and effectiveness of the technical and health outcomes, a
 s well as promoting positive change in GESI outcomes. \r\nThe review 
 included 499 publications across 463 studies. Most included studies (
 78%) lacked a specific GESI mainstreaming component in their intervent
 ion design. Of the interventions with GESI mainstreaming, the majority
  targeted women and girls, with very few focused on other social group
 s or intersectional considerations.\r\nIn light of the research gaps f
 ound in the CEDIL-funded review ‘Gender and social outcomes of WASH 
 interventions: synthesis of research evidence’, the aim of this sess
 ion is to discuss the importance of GESI mainstreaming in WASH interve
 ntions. Specifically, the webinar will explore how evaluations of GESI
  mainstreaming efforts in WASH can be done better and what type of sup
 port is needed to achieve this mainstreaming.  \r\nTime: 13.00 GMT\r\
 nDate: 02 November 2022\r\nRegister for free here: Registration link\
 r\nFull details on Event Page: https://tinyurl.com/5n6f6uaj\r\n\r\n\n
 \nFor more information visit https://gendereval.ning.com/events/gender
 -equality-and-social-inclusion-mainstreaming-in-wash
DTSTART;TZID=Asia/Kolkata:20221102T130000
DTEND;TZID=Asia/Kolkata:20221102T140000
CATEGORIES:webinar
LOCATION:\"GMT\"
WEBSITE:
URL:
CONTACT:
ORGANIZER:CEDIL project team
ATTACH;FMTTYPE="image/jpeg":
ATTENDEE;ROLE=REQ-PARTICIPANT;PARTSTAT=ACCEPTED;RSVP=TRUE;CN=Khin:http
 s://gendereval.ning.com/profile/Khin
ATTENDEE;ROLE=REQ-PARTICIPANT;PARTSTAT=ACCEPTED;RSVP=TRUE;CN="Rituu B 
 Nanda":https://gendereval.ning.com/profile/1uniqcg103ltu
END:VEVENT
END:VCALENDAR
