BEGIN:VCALENDAR
PRODID:NingEventWidget-v1
VERSION:2.0
METHOD:PUBLISH
BEGIN:VTIMEZONE
TZID:Asia/Kolkata
X-LIC-LOCATION:Asia/Kolkata
BEGIN:STANDARD
TZOFFSETFROM:+0530
TZOFFSETTO:+0530
TZNAME:IST
DTSTART:19700101T000000
END:STANDARD
END:VTIMEZONE
BEGIN:VEVENT
UID:6606644:Event:140766
DTSTAMP:20260419T233915Z
SUMMARY:Livestream- Intersectionality approach to gender and health.
DESCRIPTION:About the Lancet Commission on Gender and Global Health
 \r\nIn August 2020, a new Lancet Commission on Gender and Global Hea
 lth was launched. The Commission, with three co-chairs and 25 commissi
 ons, has been set up with the explicit and uncompromising aim to move 
 beyond the evidence to catalyse action on gender and global health. Th
 e Commission is being co-chaired by UCL Centre for Gender and Global H
 ealth Director, Sarah Hawkes; Director of the United Nations Universit
 y International Institute for Global Health, Pascale Allotey; and Chai
 r of the Kofi Annan Foundation and former Secretary General of the Int
 ernational Federation of Red Cross and Red Crescent Societies, Elhadj 
 As Sy.\r\nJoin from 16:00 - 16:30 GMT on Wednesday 17th February to he
 ar from Olena Hankivsky and to pose your own reflections and questions
  on this topic to the Commission.\r\nThe event is open to all but pre-
 registration is encouraged.Join our livestream at: https://youtu.be/cx
 MIzIabLac\r\n\n\nFor more information visit https://gendereval.ning.co
 m/events/livestream-intersectionality-approach-to-gender-and-health
DTSTART;TZID=Asia/Kolkata:20210217T160000
DTEND;TZID=Asia/Kolkata:20210217T163000
CATEGORIES:webinar
LOCATION:\"4 pm GMT'
WEBSITE:
URL:
CONTACT:
ORGANIZER:Lancet Commission on Gender and Global Health
ATTACH;FMTTYPE="image/jpeg":
ATTENDEE;ROLE=REQ-PARTICIPANT;PARTSTAT=ACCEPTED;RSVP=TRUE;CN="Kirunda 
 Ramadhan":https://gendereval.ning.com/profile/KirundaRamadhan
ATTENDEE;ROLE=REQ-PARTICIPANT;PARTSTAT=ACCEPTED;RSVP=TRUE;CN="Geteneh 
 Moges Assefa":https://gendereval.ning.com/profile/GetenehMogesAssefa
ATTENDEE;ROLE=REQ-PARTICIPANT;PARTSTAT=ACCEPTED;RSVP=TRUE;CN="Rituu B 
 Nanda":https://gendereval.ning.com/profile/1uniqcg103ltu
END:VEVENT
END:VCALENDAR
