BEGIN:VCALENDAR
PRODID:NingEventWidget-v1
VERSION:2.0
METHOD:PUBLISH
BEGIN:VTIMEZONE
TZID:Asia/Kolkata
X-LIC-LOCATION:Asia/Kolkata
BEGIN:STANDARD
TZOFFSETFROM:+0530
TZOFFSETTO:+0530
TZNAME:IST
DTSTART:19700101T000000
END:STANDARD
END:VTIMEZONE
BEGIN:VEVENT
UID:6606644:Event:12485
DTSTAMP:20260421T022711Z
SUMMARY:Minicurso - Evaluación con enfoque de igualdad de género, in
 terculturalidad y derechos humanos
DESCRIPTION:\nMinicurso - Evaluación con enfoque de igualdad de gén
 ero, interculturalidad y derechos humanos\nResponsável: Alejandra Fa
 úndez (Red de consultores latinoamericanos: Inclusión y Equidad)\nLo
 cal: Auditório Bioestatística (CIPED)\nVagas: 30\nObjetivos:\n\nPr
 omover un entendimiento común respecto al enfoque de igualdad de gé
 nero, interculturalidad y derechos humanos.\nContribuir al conocimient
 o y las competencias para planificar, gestionar y utilizar herramient
 as de la evaluación con enfoque de igualdad de género, intercultura
 lidad y derechos humanos.\n\n Perfil del Público: Profesionales o t
 écnicos con alguna experiencia en evaluación de programas\nSíntesis
  del contenido: El minicurso ofrece la oportunidad de familiarizarse 
 con los marcos normativos, conceptuales y metodológicos de este nuev
 o enfoque de evaluación que ha impulsado la UNEG y varias agencias d
 e Naciones unidas desde el 2011. Es una oportunidad para reflexionar 
 y dialogar sobre nuestra práctica como evaluadores/as a la luz de lo
 s últimos acontecimientos en el actual escenario de la evaluación.\
 nBibliografia:UNEG (2012). Integración de los derechos humanos y la i
 gualdad de género en la evaluación – hacia una guía del UNEG. ON
 U. En: http://www.uneval.org/papersandpubs/documentdetail.jsp?doc_id=
 980\nAbarca, H. y Faúndez, A.  (2011). Evaluación con enfoque de ig
 ualdad de género y derechos humanos. Sistematización de la práctic
 a de América Latina y el Caribe. ONU Mujeres y Consultora Inclusión
  y Equidad. En: http://www.unwomen.org/wp-content/uploads/2011/06/Si
 stematizaci%C3%B3n-de-la-pr%C3%A1ctica-en-Am%C3%A9rica-Latina-y-el-Car
 ibe.pdf\nFaúndez, A. y Weinstein, M. (2013). “Ampliando la mirada: 
 La integración de los enfoques de género, interculturalidad y Derec
 hos Humanos en la programación para el desarrollo”. FNUAP, Oficina
  Regional para América Latina y el Caribe –LACRO; PNUD, Centro Reg
 ional para América Latina y el Caribe; UNICEF Oficina Regional para 
 América Latina y el Caribe – TACRO; ONU MUJERES, Oficina de Evalua
 ción – Oficina Regional para las Américas y el Caribe – ACRO. E
 n: http://americalatinagenera.org/es/index.php?option=com_content&vie
 w=article&id=2277:post-2015&catid=35:contenidos-generales&&template=pl
 antilla \n\nFor more information visit https://gendereval.ning.com/ev
 ents/minicurso-evaluaci-n-con-enfoque-de-igualdad-de-g-nero
DTSTART;TZID=Asia/Kolkata:20130925T000000
DTEND;TZID=Asia/Kolkata:20130925T235900
CATEGORIES:minicursos
LOCATION:UNICAMP - auditório da Faculdade de Ciências Médicas
WEBSITE:http://www.rbma.net.br/minicursos/
URL:http://www.rbma.net.br/minicursos/
CONTACT:
ORGANIZER:http://redebrasileirademea.ning.com
ATTACH;FMTTYPE="image/jpeg":http://storage.ning.com/topology/rest/1.0/
 file/get/2304186319?profile=original
ATTENDEE;ROLE=REQ-PARTICIPANT;PARTSTAT=ACCEPTED;RSVP=TRUE;CN="Marcia P
 aterno Joppert":https://gendereval.ning.com/profile/MarciaPaternoJoppe
 rt
END:VEVENT
END:VCALENDAR
