BEGIN:VCALENDAR
PRODID:NingEventWidget-v1
VERSION:2.0
METHOD:PUBLISH
BEGIN:VTIMEZONE
TZID:Asia/Kolkata
X-LIC-LOCATION:Asia/Kolkata
BEGIN:STANDARD
TZOFFSETFROM:+0530
TZOFFSETTO:+0530
TZNAME:IST
DTSTART:19700101T000000
END:STANDARD
END:VTIMEZONE
BEGIN:VEVENT
UID:6606644:Event:150454
DTSTAMP:20260425T074016Z
SUMMARY:Power and policy: what needs to change to create a truly equal
  and intersectional governance?
DESCRIPTION:\r\n\r\n\r\nDescription\r\nThis webinar is the SECOND in t
 he ANU Gender Institute 2021 Signature Seminar Series - CROSSROADS: In
 tersectionality in Feminist Research, Policy and PracticeIs it possibl
 e for government to contribute to an equal future, or will we achieve 
 it despite government? How do these challenges play out in the context
  of climate change, COVID and the calls for more socially just futures
  prompted by movements like #BlackLivesMatter and the protests that ha
 ve taken place in the wake of Brittany Higgins and other #me too movem
 ents? What do intersectional approaches have to offer in these spaces 
 in terms of achieving a more equal future?Speakers:Sheena GrahamMelani
 e PooleDr Siobhan McDonnellDr Anu MundkurChaired by Honorary Associate
  Professor Sally Moyle\r\n\r\nTime\r\n\r\nOct 14, 2021 04:00 PM in Ca
 nberra, Melbourne, Sydney\r\nRegister https://anu.zoom.us/webinar/reg
 ister/WN_BjwqygcrS7uYMXt6dNiaVA\r\n\r\n\n\nFor more information visit 
 https://gendereval.ning.com/events/power-and-policy-what-needs-to-chan
 ge-to-create-a-truly-equal-and
DTSTART;TZID=Asia/Kolkata:20211014T160000
DTEND;TZID=Asia/Kolkata:20211014T170000
CATEGORIES:webinar
LOCATION:\"4 pm Melbourne time\"
WEBSITE:
URL:
CONTACT:
ORGANIZER:ANU Gender Institute
ATTACH;FMTTYPE="image/jpeg":
ATTENDEE;ROLE=REQ-PARTICIPANT;PARTSTAT=ACCEPTED;RSVP=TRUE;CN="Rituu B 
 Nanda":https://gendereval.ning.com/profile/1uniqcg103ltu
END:VEVENT
END:VCALENDAR
