BEGIN:VCALENDAR
PRODID:NingEventWidget-v1
VERSION:2.0
METHOD:PUBLISH
BEGIN:VTIMEZONE
TZID:Asia/Kolkata
X-LIC-LOCATION:Asia/Kolkata
BEGIN:STANDARD
TZOFFSETFROM:+0530
TZOFFSETTO:+0530
TZNAME:IST
DTSTART:19700101T000000
END:STANDARD
END:VTIMEZONE
BEGIN:VEVENT
UID:6606644:Event:88740
DTSTAMP:20260422T185559Z
SUMMARY:Webcast: Gender Lens Investing in Practice: A Conversation wit
 h Investors and Investees,
DESCRIPTION:\r\n\r\n\r\n\r\n\r\n\r\n\r\nGender Lens Investing in Pract
 ice: A Conversation with Investors and Investees\r\n\r\n\r\n\r\n\r\n\r
 \n\r\n\r\n\r\n\r\n\r\n\r\nFriday, October 18, 9:00 am-10:30 am\r\nCent
 er for Global Development2055 L St, NW - Fifth FloorWashington, DC 200
 36\r\nFEATURING\r\n\r\nRosario Bazan, Founder, Danper Trujillo SAC\r\n
 Priya Krishnan, Founder & CEO, KLAY\r\nViola Llewellyn, Co-founder & P
 resident, Ovamba Solutions\r\nSuzanne Gaboury, Chief Investment Office
 r, FinDev Canada\r\nKathryn Kaufman, MD for Global Women’s Initiativ
 es, Overseas Private Investment Corporation\r\nGraham Wrigley, Chair 
 of the Board, CDC Group\r\n\r\nMODERATOR\r\n\r\nNancy Lee, Senior Poli
 cy Fellow, Center for Global Development \r\n\r\nABOUT THE EVENT\r\nE
 xtensive international evidence demonstrates that investing in women m
 akes good business sense. Yet despite the clear commercial case for in
 vesting in women as entrepreneurs, workers, and consumers, women conti
 nue to be under-represented and under-valued across the corporate valu
 e chain. In response to this, an increasing number of investors, inclu
 ding development finance institutions (DFIs) are applying gender lens 
 investing strategies to their activities. Join CGD, in partnership wit
 h the CDC Group, FinDev Canada, and OPIC for an event that will highli
 ght the experiences of three women entrepreneurs from South Asia, Lati
 n America, and sub-Saharan Africa, as well as representatives from DFI
 s seeking to implement gender lens investing strategies. We will discu
 ss how DFIs are engaging with women entrepreneurs in emerging markets 
 to address women’s under-representation and under-recognition in bus
 iness leadership, employment, and consumption decisions.  \r\nRegist
 er for webcast \r\nhttps://www.cvent.com/events/webcast-gender-lens-i
 nvesting-in-practice-a-conversation-with-investors-and-investees/regis
 tration-79599f6becb24057b343b18253243926.aspx?refid=Registration%20Lin
 k&fqp=true\r\n\r\n\r\n\r\n\r\n\r\n\r\n\r\n\n\nFor more information vis
 it https://gendereval.ning.com/events/webcast-gender-lens-investing-in
 -practice-a-conversation-with-inv
DTSTART;TZID=Asia/Kolkata:20191018T090000
DTEND;TZID=Asia/Kolkata:20191018T103000
CATEGORIES:wecast
LOCATION:Online October 18, 9:00 am-10:30 am EDT
WEBSITE:
URL:
CONTACT:
ORGANIZER:Center for Global Development
ATTACH;FMTTYPE="image/jpeg":
ATTENDEE;ROLE=REQ-PARTICIPANT;PARTSTAT=ACCEPTED;RSVP=TRUE;CN="Rituu B 
 Nanda":https://gendereval.ning.com/profile/1uniqcg103ltu
END:VEVENT
END:VCALENDAR
