BEGIN:VCALENDAR
PRODID:NingEventWidget-v1
VERSION:2.0
METHOD:PUBLISH
BEGIN:VTIMEZONE
TZID:Asia/Kolkata
X-LIC-LOCATION:Asia/Kolkata
BEGIN:STANDARD
TZOFFSETFROM:+0530
TZOFFSETTO:+0530
TZNAME:IST
DTSTART:19700101T000000
END:STANDARD
END:VTIMEZONE
BEGIN:VEVENT
UID:6606644:Event:145895
DTSTAMP:20260424T141935Z
SUMMARY:Workshop: A Feminist Recovery Plan for Covid-19 and Beyond: Le
 arning from Grassroots Activism
DESCRIPTION:Hosted by the University of Warwick. The workshop is part 
 of an ongoing project that \"aims to collectively design a reparative 
 and redistributive feminist recovery plan for Covid-19 and beyond by p
 lacing grassroots activism at the centre of policy-making, learning fr
 om the past and looking at the future.\"\r\nThe Covid-19 crisis has ex
 posed deep inequalities embedded in national and international socio-e
 conomic systems and legal frameworks. Over-stretched social services a
 nd an over-reliance on unpaid and precarious labour compensate for the
  inadequacies of social infrastructure, economic policies and labour r
 egulation, instead of inspiring more social justice-driven approaches.
  The crisis offers an opportunity to identify the limits of such syste
 ms and reimagine the policies that shape them. This project aims to co
 llectively reimagine a feminist recovery plan for Covid-19 and beyond 
 by placing grassroots activism and social reproduction labour at the c
 entre of policy-making, learning from the past and looking at the futu
 re.\r\nRegister https://www.eventbrite.co.uk/e/a-feminist-recovery-pla
 n-learning-from-grassroots-activism-tickets-158539386573\n\nFor more i
 nformation visit https://gendereval.ning.com/events/workshop-a-feminis
 t-recovery-plan-for-covid-19-and-beyond-learnin
DTSTART;TZID=Asia/Kolkata:20210618T153000
DTEND;TZID=Asia/Kolkata:20210618T213000
CATEGORIES:workshop
LOCATION:\"18th June, starts at 3:30 pm India time\"
WEBSITE:
URL:
CONTACT:
ORGANIZER:University of Warwick.
ATTACH;FMTTYPE="image/jpeg":https://storage.ning.com/topology/rest/1.0
 /file/get/9105713071?profile=original
ATTENDEE;ROLE=REQ-PARTICIPANT;PARTSTAT=ACCEPTED;RSVP=TRUE;CN="Rituu B 
 Nanda":https://gendereval.ning.com/profile/1uniqcg103ltu
END:VEVENT
END:VCALENDAR
